BEGIN:VCALENDAR
VERSION:2.0
PRODID:spatie/icalendar-generator
DESCRIPTION:Events from Spars | Sociedad de Pediatría de Aragón\, Rioja y
  Soria
X-WR-CALDESC:Events from Spars | Sociedad de Pediatría de Aragón\, Rioja 
 y Soria
REFRESH-INTERVAL;VALUE=DURATION:PT1440M
X-PUBLISHED-TTL:PT1440M
BEGIN:VTIMEZONE
TZID:Etc/GMT-2
BEGIN:STANDARD
DTSTART:20240707T000000Z
TZOFFSETFROM:+0200
TZOFFSETTO:+0200
END:STANDARD
END:VTIMEZONE
BEGIN:VTIMEZONE
TZID:UTC
BEGIN:STANDARD
DTSTART:20250724T081815Z
TZOFFSETFROM:+0000
TZOFFSETTO:+0000
END:STANDARD
END:VTIMEZONE
BEGIN:VEVENT
UID:55-45
DTSTAMP:20260420T081815Z
SUMMARY:XI Curso práctico de problemas neurológicos en niños
LOCATION:Hospital Universitario Miguel Servet  P.º de Isabel la Católica\
 , 1-3\,   Zaragoza  50009
ORGANIZER;CN=Spars:MAILTO:fundacion@movimientotecnologicorural.org
DTSTART;TZID=Etc/GMT-2:20250403T000000
DTEND;TZID=Etc/GMT-2:20250403T010000
X-ALT-DESC;FMTTYPE=TEXT/HTML:
CATEGORIES:General
URL;VALUE=URI:https://spars.es/mc-events/xi-curso-practico-de-problemas-neu
 rologicos-en-ninos-2/
METHOD:PUBLISH
END:VEVENT
END:VCALENDAR